BEGIN:VCALENDAR
VERSION:2.0
PRODID:-//Polska Szkoła Sobotnia w Banbury im. Wisławy Szymborskiej - ECPv6.0.12//NONSGML v1.0//EN
CALSCALE:GREGORIAN
METHOD:PUBLISH
X-ORIGINAL-URL:https://polishschoolbanbury.co.uk
X-WR-CALDESC:Wydarzenia dla Polska Szkoła Sobotnia w Banbury im. Wisławy Szymborskiej
REFRESH-INTERVAL;VALUE=DURATION:PT1H
X-Robots-Tag:noindex
X-PUBLISHED-TTL:PT1H
BEGIN:VTIMEZONE
TZID:Europe/London
BEGIN:DAYLIGHT
TZOFFSETFROM:+0000
TZOFFSETTO:+0100
TZNAME:BST
DTSTART:20180325T010000
END:DAYLIGHT
BEGIN:STANDARD
TZOFFSETFROM:+0100
TZOFFSETTO:+0000
TZNAME:GMT
DTSTART:20181028T010000
END:STANDARD
BEGIN:DAYLIGHT
TZOFFSETFROM:+0000
TZOFFSETTO:+0100
TZNAME:BST
DTSTART:20190331T010000
END:DAYLIGHT
BEGIN:STANDARD
TZOFFSETFROM:+0100
TZOFFSETTO:+0000
TZNAME:GMT
DTSTART:20191027T010000
END:STANDARD
END:VTIMEZONE
BEGIN:VEVENT
DTSTART;VALUE=DATE:20190413
DTEND;VALUE=DATE:20190414
DTSTAMP:20260420T141946
CREATED:20190501T093824Z
LAST-MODIFIED:20190501T124419Z
UID:549-1555113600-1555199999@polishschoolbanbury.co.uk
SUMMARY:Wolna sobota (przerwa świąteczna)
DESCRIPTION:
URL:https://polishschoolbanbury.co.uk/wydarzenia/wolna-sobota-przerwa-swiateczna-5/
CATEGORIES:Szkoła,Wakacje
END:VEVENT
BEGIN:VEVENT
DTSTART;VALUE=DATE:20190406
DTEND;VALUE=DATE:20190407
DTSTAMP:20260420T141946
CREATED:20190501T093759Z
LAST-MODIFIED:20190501T124413Z
UID:547-1554508800-1554595199@polishschoolbanbury.co.uk
SUMMARY:Wolna sobota (przerwa świąteczna)
DESCRIPTION:
URL:https://polishschoolbanbury.co.uk/wydarzenia/wolna-sobota-przerwa-swiateczna-4/
CATEGORIES:Szkoła,Wakacje
END:VEVENT
BEGIN:VEVENT
DTSTART;TZID=Europe/London:20190330T093000
DTEND;TZID=Europe/London:20190330T130000
DTSTAMP:20260420T141946
CREATED:20190501T091821Z
LAST-MODIFIED:20190501T124358Z
UID:498-1553938200-1553950800@polishschoolbanbury.co.uk
SUMMARY:Zajęcia szkolne
DESCRIPTION:
URL:https://polishschoolbanbury.co.uk/wydarzenia/zajecia-szkolne-23/
LOCATION:Polska Szkoła w Banbury\, Fiennes Road\, Banbury\, Oxon\, OX16 0ET\, United Kingdom
CATEGORIES:Szkoła
END:VEVENT
BEGIN:VEVENT
DTSTART;VALUE=DATE:20190330
DTEND;VALUE=DATE:20190331
DTSTAMP:20260420T141946
CREATED:20190501T093703Z
LAST-MODIFIED:20190501T124405Z
UID:545-1553904000-1553990399@polishschoolbanbury.co.uk
SUMMARY:Koniec 2 trymestru
DESCRIPTION:
URL:https://polishschoolbanbury.co.uk/wydarzenia/koniec-2-trymestru/
CATEGORIES:Szkoła
END:VEVENT
BEGIN:VEVENT
DTSTART;TZID=Europe/London:20190323T093000
DTEND;TZID=Europe/London:20190323T130000
DTSTAMP:20260420T141946
CREATED:20190501T091753Z
LAST-MODIFIED:20190501T124346Z
UID:496-1553333400-1553346000@polishschoolbanbury.co.uk
SUMMARY:Zajęcia szkolne
DESCRIPTION:
URL:https://polishschoolbanbury.co.uk/wydarzenia/zajecia-szkolne-22/
LOCATION:Polska Szkoła w Banbury\, Fiennes Road\, Banbury\, Oxon\, OX16 0ET\, United Kingdom
CATEGORIES:Szkoła
END:VEVENT
BEGIN:VEVENT
DTSTART;TZID=Europe/London:20190316T093000
DTEND;TZID=Europe/London:20190316T130000
DTSTAMP:20260420T141946
CREATED:20190501T091726Z
LAST-MODIFIED:20190501T124256Z
UID:494-1552728600-1552741200@polishschoolbanbury.co.uk
SUMMARY:Zajęcia szkolne
DESCRIPTION:
URL:https://polishschoolbanbury.co.uk/wydarzenia/zajecia-szkolne-21/
LOCATION:Polska Szkoła w Banbury\, Fiennes Road\, Banbury\, Oxon\, OX16 0ET\, United Kingdom
CATEGORIES:Szkoła
END:VEVENT
BEGIN:VEVENT
DTSTART;TZID=Europe/London:20190309T093000
DTEND;TZID=Europe/London:20190309T130000
DTSTAMP:20260420T141946
CREATED:20190501T091657Z
LAST-MODIFIED:20190501T124246Z
UID:492-1552123800-1552136400@polishschoolbanbury.co.uk
SUMMARY:Zajęcia szkolne
DESCRIPTION:
URL:https://polishschoolbanbury.co.uk/wydarzenia/zajecia-szkolne-20/
LOCATION:Polska Szkoła w Banbury\, Fiennes Road\, Banbury\, Oxon\, OX16 0ET\, United Kingdom
CATEGORIES:Szkoła
END:VEVENT
BEGIN:VEVENT
DTSTART;TZID=Europe/London:20190302T093000
DTEND;TZID=Europe/London:20190302T130000
DTSTAMP:20260420T141946
CREATED:20190501T091624Z
LAST-MODIFIED:20190501T124236Z
UID:490-1551519000-1551531600@polishschoolbanbury.co.uk
SUMMARY:Zajęcia szkolne
DESCRIPTION:
URL:https://polishschoolbanbury.co.uk/wydarzenia/zajecia-szkolne-19/
LOCATION:Polska Szkoła w Banbury\, Fiennes Road\, Banbury\, Oxon\, OX16 0ET\, United Kingdom
CATEGORIES:Szkoła
END:VEVENT
BEGIN:VEVENT
DTSTART;VALUE=DATE:20190223
DTEND;VALUE=DATE:20190224
DTSTAMP:20260420T141946
CREATED:20190501T093632Z
LAST-MODIFIED:20190501T124225Z
UID:543-1550880000-1550966399@polishschoolbanbury.co.uk
SUMMARY:Wolna sobota (half term)
DESCRIPTION:
URL:https://polishschoolbanbury.co.uk/wydarzenia/wolna-sobota-half-term-4/
CATEGORIES:Szkoła,Wakacje
END:VEVENT
BEGIN:VEVENT
DTSTART;VALUE=DATE:20190216
DTEND;VALUE=DATE:20190217
DTSTAMP:20260420T141946
CREATED:20190501T093559Z
LAST-MODIFIED:20190501T124217Z
UID:541-1550275200-1550361599@polishschoolbanbury.co.uk
SUMMARY:Wolna sobota (half term)
DESCRIPTION:
URL:https://polishschoolbanbury.co.uk/wydarzenia/wolna-sobota-half-term-3/
CATEGORIES:Szkoła,Wakacje
END:VEVENT
BEGIN:VEVENT
DTSTART;TZID=Europe/London:20190209T093000
DTEND;TZID=Europe/London:20190209T130000
DTSTAMP:20260420T141946
CREATED:20190501T091538Z
LAST-MODIFIED:20190501T124210Z
UID:488-1549704600-1549717200@polishschoolbanbury.co.uk
SUMMARY:Zajęcia szkolne
DESCRIPTION:
URL:https://polishschoolbanbury.co.uk/wydarzenia/zajecia-szkolne-18/
LOCATION:Polska Szkoła w Banbury\, Fiennes Road\, Banbury\, Oxon\, OX16 0ET\, United Kingdom
CATEGORIES:Szkoła
END:VEVENT
BEGIN:VEVENT
DTSTART;TZID=Europe/London:20190202T093000
DTEND;TZID=Europe/London:20190202T130000
DTSTAMP:20260420T141946
CREATED:20190501T091512Z
LAST-MODIFIED:20190501T124158Z
UID:486-1549099800-1549112400@polishschoolbanbury.co.uk
SUMMARY:Zajęcia szkolne
DESCRIPTION:
URL:https://polishschoolbanbury.co.uk/wydarzenia/zajecia-szkolne-17/
LOCATION:Polska Szkoła w Banbury\, Fiennes Road\, Banbury\, Oxon\, OX16 0ET\, United Kingdom
CATEGORIES:Szkoła
END:VEVENT
BEGIN:VEVENT
DTSTART;TZID=Europe/London:20190126T093000
DTEND;TZID=Europe/London:20190126T130000
DTSTAMP:20260420T141946
CREATED:20190501T091433Z
LAST-MODIFIED:20190501T124145Z
UID:484-1548495000-1548507600@polishschoolbanbury.co.uk
SUMMARY:Zajęcia szkolne
DESCRIPTION:
URL:https://polishschoolbanbury.co.uk/wydarzenia/zajecia-szkolne-16/
LOCATION:Polska Szkoła w Banbury\, Fiennes Road\, Banbury\, Oxon\, OX16 0ET\, United Kingdom
CATEGORIES:Szkoła
END:VEVENT
BEGIN:VEVENT
DTSTART;TZID=Europe/London:20190119T093000
DTEND;TZID=Europe/London:20190119T130000
DTSTAMP:20260420T141946
CREATED:20190501T091404Z
LAST-MODIFIED:20190501T124134Z
UID:482-1547890200-1547902800@polishschoolbanbury.co.uk
SUMMARY:Zajęcia szkolne
DESCRIPTION:
URL:https://polishschoolbanbury.co.uk/wydarzenia/zajecia-szkolne-15/
LOCATION:Polska Szkoła w Banbury\, Fiennes Road\, Banbury\, Oxon\, OX16 0ET\, United Kingdom
CATEGORIES:Szkoła
END:VEVENT
BEGIN:VEVENT
DTSTART;TZID=Europe/London:20190112T093000
DTEND;TZID=Europe/London:20190112T130000
DTSTAMP:20260420T141946
CREATED:20190501T091300Z
LAST-MODIFIED:20190501T124124Z
UID:480-1547285400-1547298000@polishschoolbanbury.co.uk
SUMMARY:Zajęcia szkolne
DESCRIPTION:
URL:https://polishschoolbanbury.co.uk/wydarzenia/zajecia-szkolne-14/
LOCATION:Polska Szkoła w Banbury\, Fiennes Road\, Banbury\, Oxon\, OX16 0ET\, United Kingdom
CATEGORIES:Szkoła
END:VEVENT
BEGIN:VEVENT
DTSTART;VALUE=DATE:20190112
DTEND;VALUE=DATE:20190113
DTSTAMP:20260420T141946
CREATED:20190501T093412Z
LAST-MODIFIED:20190501T124114Z
UID:539-1547251200-1547337599@polishschoolbanbury.co.uk
SUMMARY:Ostateczny termin opłat za 2 trymestr
DESCRIPTION:
URL:https://polishschoolbanbury.co.uk/wydarzenia/ostateczny-termin-oplat-za-2-trymestr/
CATEGORIES:Opłaty,Szkoła
END:VEVENT
BEGIN:VEVENT
DTSTART;VALUE=DATE:20190112
DTEND;VALUE=DATE:20190113
DTSTAMP:20260420T141946
CREATED:20190501T093339Z
LAST-MODIFIED:20190501T124108Z
UID:537-1547251200-1547337599@polishschoolbanbury.co.uk
SUMMARY:Początek 2 trymestru
DESCRIPTION:
URL:https://polishschoolbanbury.co.uk/wydarzenia/poczatek-2-trymestru/
CATEGORIES:Szkoła
END:VEVENT
BEGIN:VEVENT
DTSTART;VALUE=DATE:20190105
DTEND;VALUE=DATE:20190106
DTSTAMP:20260420T141946
CREATED:20190501T093306Z
LAST-MODIFIED:20190501T124100Z
UID:535-1546646400-1546732799@polishschoolbanbury.co.uk
SUMMARY:Wolna sobota (przerwa świąteczna)
DESCRIPTION:
URL:https://polishschoolbanbury.co.uk/wydarzenia/wolna-sobota-przerwa-swiateczna-3/
CATEGORIES:Szkoła,Wakacje
END:VEVENT
BEGIN:VEVENT
DTSTART;VALUE=DATE:20181229
DTEND;VALUE=DATE:20181230
DTSTAMP:20260420T141946
CREATED:20190501T093240Z
LAST-MODIFIED:20190501T124052Z
UID:533-1546041600-1546127999@polishschoolbanbury.co.uk
SUMMARY:Wolna sobota (przerwa świąteczna)
DESCRIPTION:
URL:https://polishschoolbanbury.co.uk/wydarzenia/wolna-sobota-przerwa-swiateczna-2/
CATEGORIES:Szkoła,Wakacje
END:VEVENT
BEGIN:VEVENT
DTSTART;VALUE=DATE:20181222
DTEND;VALUE=DATE:20181223
DTSTAMP:20260420T141946
CREATED:20190501T093218Z
LAST-MODIFIED:20190501T124044Z
UID:531-1545436800-1545523199@polishschoolbanbury.co.uk
SUMMARY:Wolna sobota (przerwa świąteczna)
DESCRIPTION:
URL:https://polishschoolbanbury.co.uk/wydarzenia/wolna-sobota-przerwa-swiateczna/
CATEGORIES:Szkoła,Wakacje
END:VEVENT
BEGIN:VEVENT
DTSTART;TZID=Europe/London:20181215T093000
DTEND;TZID=Europe/London:20181215T130000
DTSTAMP:20260420T141946
CREATED:20190501T091204Z
LAST-MODIFIED:20190501T124029Z
UID:478-1544866200-1544878800@polishschoolbanbury.co.uk
SUMMARY:Zajęcia szkolne
DESCRIPTION:
URL:https://polishschoolbanbury.co.uk/wydarzenia/zajecia-szkolne-13/
LOCATION:Polska Szkoła w Banbury\, Fiennes Road\, Banbury\, Oxon\, OX16 0ET\, United Kingdom
CATEGORIES:Szkoła
END:VEVENT
BEGIN:VEVENT
DTSTART;VALUE=DATE:20181215
DTEND;VALUE=DATE:20181216
DTSTAMP:20260420T141946
CREATED:20190501T093138Z
LAST-MODIFIED:20190501T124017Z
UID:529-1544832000-1544918399@polishschoolbanbury.co.uk
SUMMARY:Koniec 1 trymestru
DESCRIPTION:
URL:https://polishschoolbanbury.co.uk/wydarzenia/koniec-1-trymestru/
CATEGORIES:Szkoła
END:VEVENT
BEGIN:VEVENT
DTSTART;TZID=Europe/London:20181208T093000
DTEND;TZID=Europe/London:20181208T130000
DTSTAMP:20260420T141946
CREATED:20190501T091133Z
LAST-MODIFIED:20190501T124009Z
UID:476-1544261400-1544274000@polishschoolbanbury.co.uk
SUMMARY:Zajęcia szkolne
DESCRIPTION:
URL:https://polishschoolbanbury.co.uk/wydarzenia/zajecia-szkolne-12/
LOCATION:Polska Szkoła w Banbury\, Fiennes Road\, Banbury\, Oxon\, OX16 0ET\, United Kingdom
CATEGORIES:Szkoła
END:VEVENT
BEGIN:VEVENT
DTSTART;TZID=Europe/London:20181201T093000
DTEND;TZID=Europe/London:20181201T130000
DTSTAMP:20260420T141946
CREATED:20190501T091103Z
LAST-MODIFIED:20190501T123958Z
UID:474-1543656600-1543669200@polishschoolbanbury.co.uk
SUMMARY:Zajęcia szkolne
DESCRIPTION:
URL:https://polishschoolbanbury.co.uk/wydarzenia/zajecia-szkolne-11/
LOCATION:Polska Szkoła w Banbury\, Fiennes Road\, Banbury\, Oxon\, OX16 0ET\, United Kingdom
CATEGORIES:Szkoła
END:VEVENT
BEGIN:VEVENT
DTSTART;TZID=Europe/London:20181124T093000
DTEND;TZID=Europe/London:20181124T130000
DTSTAMP:20260420T141946
CREATED:20190501T091028Z
LAST-MODIFIED:20190501T123946Z
UID:472-1543051800-1543064400@polishschoolbanbury.co.uk
SUMMARY:Zajęcia szkolne - 24 listopada 2018
DESCRIPTION:
URL:https://polishschoolbanbury.co.uk/wydarzenia/zajecia-szkolne-10/
LOCATION:Polska Szkoła w Banbury\, Fiennes Road\, Banbury\, Oxon\, OX16 0ET\, United Kingdom
CATEGORIES:Szkoła
END:VEVENT
BEGIN:VEVENT
DTSTART;TZID=Europe/London:20181117T093000
DTEND;TZID=Europe/London:20181117T130000
DTSTAMP:20260420T141946
CREATED:20190501T090958Z
LAST-MODIFIED:20190501T123926Z
UID:470-1542447000-1542459600@polishschoolbanbury.co.uk
SUMMARY:Zajęcia szkolne
DESCRIPTION:
URL:https://polishschoolbanbury.co.uk/wydarzenia/zajecia-szkolne-9/
LOCATION:Polska Szkoła w Banbury\, Fiennes Road\, Banbury\, Oxon\, OX16 0ET\, United Kingdom
CATEGORIES:Szkoła
END:VEVENT
BEGIN:VEVENT
DTSTART;TZID=Europe/London:20181110T093000
DTEND;TZID=Europe/London:20181110T130000
DTSTAMP:20260420T141946
CREATED:20190501T090911Z
LAST-MODIFIED:20190501T123914Z
UID:468-1541842200-1541854800@polishschoolbanbury.co.uk
SUMMARY:Zajęcia szkolne
DESCRIPTION:
URL:https://polishschoolbanbury.co.uk/wydarzenia/zajecia-szkolne-8/
LOCATION:Polska Szkoła w Banbury\, Fiennes Road\, Banbury\, Oxon\, OX16 0ET\, United Kingdom
CATEGORIES:Szkoła
END:VEVENT
BEGIN:VEVENT
DTSTART;TZID=Europe/London:20181103T093000
DTEND;TZID=Europe/London:20181103T130000
DTSTAMP:20260420T141946
CREATED:20190501T090733Z
LAST-MODIFIED:20190501T123903Z
UID:466-1541237400-1541250000@polishschoolbanbury.co.uk
SUMMARY:Zajęcia szkolne
DESCRIPTION:
URL:https://polishschoolbanbury.co.uk/wydarzenia/zajecia-szkolne-7/
LOCATION:Polska Szkoła w Banbury\, Fiennes Road\, Banbury\, Oxon\, OX16 0ET\, United Kingdom
CATEGORIES:Szkoła
END:VEVENT
BEGIN:VEVENT
DTSTART;VALUE=DATE:20181027
DTEND;VALUE=DATE:20181028
DTSTAMP:20260420T141946
CREATED:20190501T093050Z
LAST-MODIFIED:20190501T124316Z
UID:527-1540598400-1540684799@polishschoolbanbury.co.uk
SUMMARY:Wolna sobota (half term)
DESCRIPTION:
URL:https://polishschoolbanbury.co.uk/wydarzenia/wolna-sobota-half-term-2/
CATEGORIES:Szkoła,Wakacje
END:VEVENT
BEGIN:VEVENT
DTSTART;VALUE=DATE:20181020
DTEND;VALUE=DATE:20181021
DTSTAMP:20260420T141946
CREATED:20190501T093026Z
LAST-MODIFIED:20190501T124311Z
UID:525-1539993600-1540079999@polishschoolbanbury.co.uk
SUMMARY:Wolna sobota (half term)
DESCRIPTION:
URL:https://polishschoolbanbury.co.uk/wydarzenia/wolna-sobota-half-term/
CATEGORIES:Szkoła,Wakacje
END:VEVENT
END:VCALENDAR