BEGIN:VCALENDAR
VERSION:2.0
PRODID:-//Polska Szkoła Sobotnia w Banbury im. Wisławy Szymborskiej - ECPv6.0.12//NONSGML v1.0//EN
CALSCALE:GREGORIAN
METHOD:PUBLISH
X-ORIGINAL-URL:https://polishschoolbanbury.co.uk
X-WR-CALDESC:Wydarzenia dla Polska Szkoła Sobotnia w Banbury im. Wisławy Szymborskiej
REFRESH-INTERVAL;VALUE=DURATION:PT1H
X-Robots-Tag:noindex
X-PUBLISHED-TTL:PT1H
BEGIN:VTIMEZONE
TZID:Europe/London
BEGIN:DAYLIGHT
TZOFFSETFROM:+0000
TZOFFSETTO:+0100
TZNAME:BST
DTSTART:20190331T010000
END:DAYLIGHT
BEGIN:STANDARD
TZOFFSETFROM:+0100
TZOFFSETTO:+0000
TZNAME:GMT
DTSTART:20191027T010000
END:STANDARD
BEGIN:DAYLIGHT
TZOFFSETFROM:+0000
TZOFFSETTO:+0100
TZNAME:BST
DTSTART:20200329T010000
END:DAYLIGHT
BEGIN:STANDARD
TZOFFSETFROM:+0100
TZOFFSETTO:+0000
TZNAME:GMT
DTSTART:20201025T010000
END:STANDARD
BEGIN:DAYLIGHT
TZOFFSETFROM:+0000
TZOFFSETTO:+0100
TZNAME:BST
DTSTART:20210328T010000
END:DAYLIGHT
BEGIN:STANDARD
TZOFFSETFROM:+0100
TZOFFSETTO:+0000
TZNAME:GMT
DTSTART:20211031T010000
END:STANDARD
BEGIN:DAYLIGHT
TZOFFSETFROM:+0000
TZOFFSETTO:+0100
TZNAME:BST
DTSTART:20220327T010000
END:DAYLIGHT
BEGIN:STANDARD
TZOFFSETFROM:+0100
TZOFFSETTO:+0000
TZNAME:GMT
DTSTART:20221030T010000
END:STANDARD
END:VTIMEZONE
BEGIN:VEVENT
DTSTART;TZID=Europe/London:20220603T080000
DTEND;TZID=Europe/London:20220603T170000
DTSTAMP:20260420T113404
CREATED:20220603T140141Z
LAST-MODIFIED:20220603T140150Z
UID:2095-1654243200-1654275600@polishschoolbanbury.co.uk
SUMMARY:REKRUTACJA 2022/2023
DESCRIPTION:
URL:https://polishschoolbanbury.co.uk/wydarzenia/rekrutacja-2022-2023-2/
END:VEVENT
BEGIN:VEVENT
DTSTART;TZID=Europe/London:20220603T080000
DTEND;TZID=Europe/London:20220603T170000
DTSTAMP:20260420T113404
CREATED:20220603T135928Z
LAST-MODIFIED:20220603T135949Z
UID:2092-1654243200-1654275600@polishschoolbanbury.co.uk
SUMMARY:REKRUTACJA 2022/2023
DESCRIPTION:
URL:https://polishschoolbanbury.co.uk/wydarzenia/2092/
END:VEVENT
BEGIN:VEVENT
DTSTART;TZID=Europe/London:20220603T080000
DTEND;TZID=Europe/London:20220603T170000
DTSTAMP:20260420T113404
CREATED:20220603T135651Z
LAST-MODIFIED:20220603T135651Z
UID:2088-1654243200-1654275600@polishschoolbanbury.co.uk
SUMMARY:REKRUTACJA 2022/2023
DESCRIPTION:
URL:https://polishschoolbanbury.co.uk/wydarzenia/rekrutacja-2022-2023/
END:VEVENT
BEGIN:VEVENT
DTSTART;TZID=Europe/London:20190914T093000
DTEND;TZID=Europe/London:20190914T130000
DTSTAMP:20260420T113404
CREATED:20190730T081558Z
LAST-MODIFIED:20190730T081558Z
UID:958-1568453400-1568466000@polishschoolbanbury.co.uk
SUMMARY:Rozpoczęcie roku szkolnego
DESCRIPTION:
URL:https://polishschoolbanbury.co.uk/wydarzenia/rozpoczecie-roku-szkolnego/
CATEGORIES:Szkoła
END:VEVENT
BEGIN:VEVENT
DTSTART;TZID=Europe/London:20190914T093000
DTEND;TZID=Europe/London:20190914T130000
DTSTAMP:20260420T113404
CREATED:20190730T081459Z
LAST-MODIFIED:20190730T081638Z
UID:955-1568453400-1568466000@polishschoolbanbury.co.uk
SUMMARY:Zajęcia szkolne
DESCRIPTION:
URL:https://polishschoolbanbury.co.uk/wydarzenia/zajecia-szkolne-32/
CATEGORIES:Szkoła
END:VEVENT
BEGIN:VEVENT
DTSTART;TZID=Europe/London:20190706T093000
DTEND;TZID=Europe/London:20190706T130000
DTSTAMP:20260420T113404
CREATED:20190501T092340Z
LAST-MODIFIED:20190501T124811Z
UID:516-1562405400-1562418000@polishschoolbanbury.co.uk
SUMMARY:Zajęcia szkolne
DESCRIPTION:
URL:https://polishschoolbanbury.co.uk/wydarzenia/zajecia-szkolne-6-lipca-2019/
LOCATION:Polska Szkoła w Banbury\, Fiennes Road\, Banbury\, Oxon\, OX16 0ET\, United Kingdom
CATEGORIES:Szkoła
END:VEVENT
BEGIN:VEVENT
DTSTART;VALUE=DATE:20190706
DTEND;VALUE=DATE:20190707
DTSTAMP:20260420T113404
CREATED:20190501T094236Z
LAST-MODIFIED:20190501T124805Z
UID:561-1562371200-1562457599@polishschoolbanbury.co.uk
SUMMARY:Zakończenie roku szkolnego
DESCRIPTION:
URL:https://polishschoolbanbury.co.uk/wydarzenia/zakonczenie-roku-szkolnego/
CATEGORIES:Szkoła
END:VEVENT
BEGIN:VEVENT
DTSTART;TZID=Europe/London:20190629T093000
DTEND;TZID=Europe/London:20190629T130000
DTSTAMP:20260420T113404
CREATED:20190501T092303Z
LAST-MODIFIED:20190501T124759Z
UID:514-1561800600-1561813200@polishschoolbanbury.co.uk
SUMMARY:Zajęcia szkolne
DESCRIPTION:
URL:https://polishschoolbanbury.co.uk/wydarzenia/zajecia-szkolne-31/
LOCATION:Polska Szkoła w Banbury\, Fiennes Road\, Banbury\, Oxon\, OX16 0ET\, United Kingdom
CATEGORIES:Szkoła
END:VEVENT
BEGIN:VEVENT
DTSTART;TZID=Europe/London:20190622T093000
DTEND;TZID=Europe/London:20190622T130000
DTSTAMP:20260420T113404
CREATED:20190501T092234Z
LAST-MODIFIED:20190501T124725Z
UID:512-1561195800-1561208400@polishschoolbanbury.co.uk
SUMMARY:Zajęcia szkolne
DESCRIPTION:
URL:https://polishschoolbanbury.co.uk/wydarzenia/zajecia-szkolne-30/
LOCATION:Polska Szkoła w Banbury\, Fiennes Road\, Banbury\, Oxon\, OX16 0ET\, United Kingdom
CATEGORIES:Szkoła
END:VEVENT
BEGIN:VEVENT
DTSTART;TZID=Europe/London:20190615T093000
DTEND;TZID=Europe/London:20190615T130000
DTSTAMP:20260420T113404
CREATED:20190501T092209Z
LAST-MODIFIED:20190501T124714Z
UID:510-1560591000-1560603600@polishschoolbanbury.co.uk
SUMMARY:Zajęcia szkolne
DESCRIPTION:
URL:https://polishschoolbanbury.co.uk/wydarzenia/zajecia-szkolne-29/
LOCATION:Polska Szkoła w Banbury\, Fiennes Road\, Banbury\, Oxon\, OX16 0ET\, United Kingdom
CATEGORIES:Szkoła
END:VEVENT
BEGIN:VEVENT
DTSTART;TZID=Europe/London:20190608T093000
DTEND;TZID=Europe/London:20190608T130000
DTSTAMP:20260420T113404
CREATED:20190501T092143Z
LAST-MODIFIED:20190501T124700Z
UID:508-1559986200-1559998800@polishschoolbanbury.co.uk
SUMMARY:Zajęcia szkolne
DESCRIPTION:
URL:https://polishschoolbanbury.co.uk/wydarzenia/zajecia-szkolne-28/
LOCATION:Polska Szkoła w Banbury\, Fiennes Road\, Banbury\, Oxon\, OX16 0ET\, United Kingdom
CATEGORIES:Szkoła
END:VEVENT
BEGIN:VEVENT
DTSTART;VALUE=DATE:20190601
DTEND;VALUE=DATE:20190602
DTSTAMP:20260420T113404
CREATED:20190501T094204Z
LAST-MODIFIED:20190501T124538Z
UID:559-1559347200-1559433599@polishschoolbanbury.co.uk
SUMMARY:Wolna sobota (half term)
DESCRIPTION:
URL:https://polishschoolbanbury.co.uk/wydarzenia/wolna-sobota-half-term-6/
CATEGORIES:Szkoła,Wakacje
END:VEVENT
BEGIN:VEVENT
DTSTART;VALUE=DATE:20190525
DTEND;VALUE=DATE:20190526
DTSTAMP:20260420T113404
CREATED:20190501T094146Z
LAST-MODIFIED:20190501T124532Z
UID:557-1558742400-1558828799@polishschoolbanbury.co.uk
SUMMARY:Wolna sobota (half term)
DESCRIPTION:
URL:https://polishschoolbanbury.co.uk/wydarzenia/wolna-sobota-half-term-5/
CATEGORIES:Szkoła,Wakacje
END:VEVENT
BEGIN:VEVENT
DTSTART;TZID=Europe/London:20190518T093000
DTEND;TZID=Europe/London:20190518T130000
DTSTAMP:20260420T113404
CREATED:20190501T092107Z
LAST-MODIFIED:20190501T124526Z
UID:506-1558171800-1558184400@polishschoolbanbury.co.uk
SUMMARY:Zajęcia szkolne
DESCRIPTION:
URL:https://polishschoolbanbury.co.uk/wydarzenia/zajecia-szkolne-27/
LOCATION:Polska Szkoła w Banbury\, Fiennes Road\, Banbury\, Oxon\, OX16 0ET\, United Kingdom
CATEGORIES:Szkoła
END:VEVENT
BEGIN:VEVENT
DTSTART;TZID=Europe/London:20190511T093000
DTEND;TZID=Europe/London:20190511T130000
DTSTAMP:20260420T113404
CREATED:20190501T092041Z
LAST-MODIFIED:20190501T124513Z
UID:504-1557567000-1557579600@polishschoolbanbury.co.uk
SUMMARY:Zajęcia szkolne
DESCRIPTION:
URL:https://polishschoolbanbury.co.uk/wydarzenia/zajecia-szkolne-26/
LOCATION:Polska Szkoła w Banbury\, Fiennes Road\, Banbury\, Oxon\, OX16 0ET\, United Kingdom
CATEGORIES:Szkoła
END:VEVENT
BEGIN:VEVENT
DTSTART;TZID=Europe/London:20190504T093000
DTEND;TZID=Europe/London:20190504T130000
DTSTAMP:20260420T113404
CREATED:20190501T091926Z
LAST-MODIFIED:20190501T124819Z
UID:502-1556962200-1556974800@polishschoolbanbury.co.uk
SUMMARY:Zajęcia szkolne
DESCRIPTION:
URL:https://polishschoolbanbury.co.uk/wydarzenia/zajecia-szkolne-25/
LOCATION:Polska Szkoła w Banbury\, Fiennes Road\, Banbury\, Oxon\, OX16 0ET\, United Kingdom
CATEGORIES:Szkoła
END:VEVENT
BEGIN:VEVENT
DTSTART;TZID=Europe/London:20190427T093000
DTEND;TZID=Europe/London:20190427T130000
DTSTAMP:20260420T113404
CREATED:20190501T091852Z
LAST-MODIFIED:20190501T124452Z
UID:500-1556357400-1556370000@polishschoolbanbury.co.uk
SUMMARY:Zajęcia szkolne
DESCRIPTION:
URL:https://polishschoolbanbury.co.uk/wydarzenia/zajecia-szkolne-24/
LOCATION:Polska Szkoła w Banbury\, Fiennes Road\, Banbury\, Oxon\, OX16 0ET\, United Kingdom
CATEGORIES:Szkoła
END:VEVENT
BEGIN:VEVENT
DTSTART;VALUE=DATE:20190427
DTEND;VALUE=DATE:20190428
DTSTAMP:20260420T113404
CREATED:20190501T094114Z
LAST-MODIFIED:20190501T124443Z
UID:555-1556323200-1556409599@polishschoolbanbury.co.uk
SUMMARY:Ostateczny termin opłat za 3 trymestr
DESCRIPTION:
URL:https://polishschoolbanbury.co.uk/wydarzenia/ostateczny-termin-oplat-za-3-trymestr/
CATEGORIES:Opłaty,Szkoła
END:VEVENT
BEGIN:VEVENT
DTSTART;VALUE=DATE:20190427
DTEND;VALUE=DATE:20190428
DTSTAMP:20260420T113404
CREATED:20190501T094035Z
LAST-MODIFIED:20190501T124436Z
UID:553-1556323200-1556409599@polishschoolbanbury.co.uk
SUMMARY:Początek 3 trymestru
DESCRIPTION:
URL:https://polishschoolbanbury.co.uk/wydarzenia/poczatek-3-trymestru/
CATEGORIES:Szkoła
END:VEVENT
BEGIN:VEVENT
DTSTART;VALUE=DATE:20190420
DTEND;VALUE=DATE:20190421
DTSTAMP:20260420T113404
CREATED:20190501T093845Z
LAST-MODIFIED:20190501T124425Z
UID:551-1555718400-1555804799@polishschoolbanbury.co.uk
SUMMARY:Wolna sobota (przerwa świąteczna)
DESCRIPTION:
URL:https://polishschoolbanbury.co.uk/wydarzenia/wolna-sobota-przerwa-swiateczna-6/
CATEGORIES:Szkoła,Wakacje
END:VEVENT
BEGIN:VEVENT
DTSTART;VALUE=DATE:20190413
DTEND;VALUE=DATE:20190414
DTSTAMP:20260420T113404
CREATED:20190501T093824Z
LAST-MODIFIED:20190501T124419Z
UID:549-1555113600-1555199999@polishschoolbanbury.co.uk
SUMMARY:Wolna sobota (przerwa świąteczna)
DESCRIPTION:
URL:https://polishschoolbanbury.co.uk/wydarzenia/wolna-sobota-przerwa-swiateczna-5/
CATEGORIES:Szkoła,Wakacje
END:VEVENT
BEGIN:VEVENT
DTSTART;VALUE=DATE:20190406
DTEND;VALUE=DATE:20190407
DTSTAMP:20260420T113404
CREATED:20190501T093759Z
LAST-MODIFIED:20190501T124413Z
UID:547-1554508800-1554595199@polishschoolbanbury.co.uk
SUMMARY:Wolna sobota (przerwa świąteczna)
DESCRIPTION:
URL:https://polishschoolbanbury.co.uk/wydarzenia/wolna-sobota-przerwa-swiateczna-4/
CATEGORIES:Szkoła,Wakacje
END:VEVENT
BEGIN:VEVENT
DTSTART;TZID=Europe/London:20190330T093000
DTEND;TZID=Europe/London:20190330T130000
DTSTAMP:20260420T113404
CREATED:20190501T091821Z
LAST-MODIFIED:20190501T124358Z
UID:498-1553938200-1553950800@polishschoolbanbury.co.uk
SUMMARY:Zajęcia szkolne
DESCRIPTION:
URL:https://polishschoolbanbury.co.uk/wydarzenia/zajecia-szkolne-23/
LOCATION:Polska Szkoła w Banbury\, Fiennes Road\, Banbury\, Oxon\, OX16 0ET\, United Kingdom
CATEGORIES:Szkoła
END:VEVENT
BEGIN:VEVENT
DTSTART;VALUE=DATE:20190330
DTEND;VALUE=DATE:20190331
DTSTAMP:20260420T113404
CREATED:20190501T093703Z
LAST-MODIFIED:20190501T124405Z
UID:545-1553904000-1553990399@polishschoolbanbury.co.uk
SUMMARY:Koniec 2 trymestru
DESCRIPTION:
URL:https://polishschoolbanbury.co.uk/wydarzenia/koniec-2-trymestru/
CATEGORIES:Szkoła
END:VEVENT
BEGIN:VEVENT
DTSTART;TZID=Europe/London:20190323T093000
DTEND;TZID=Europe/London:20190323T130000
DTSTAMP:20260420T113404
CREATED:20190501T091753Z
LAST-MODIFIED:20190501T124346Z
UID:496-1553333400-1553346000@polishschoolbanbury.co.uk
SUMMARY:Zajęcia szkolne
DESCRIPTION:
URL:https://polishschoolbanbury.co.uk/wydarzenia/zajecia-szkolne-22/
LOCATION:Polska Szkoła w Banbury\, Fiennes Road\, Banbury\, Oxon\, OX16 0ET\, United Kingdom
CATEGORIES:Szkoła
END:VEVENT
BEGIN:VEVENT
DTSTART;TZID=Europe/London:20190316T093000
DTEND;TZID=Europe/London:20190316T130000
DTSTAMP:20260420T113404
CREATED:20190501T091726Z
LAST-MODIFIED:20190501T124256Z
UID:494-1552728600-1552741200@polishschoolbanbury.co.uk
SUMMARY:Zajęcia szkolne
DESCRIPTION:
URL:https://polishschoolbanbury.co.uk/wydarzenia/zajecia-szkolne-21/
LOCATION:Polska Szkoła w Banbury\, Fiennes Road\, Banbury\, Oxon\, OX16 0ET\, United Kingdom
CATEGORIES:Szkoła
END:VEVENT
BEGIN:VEVENT
DTSTART;TZID=Europe/London:20190309T093000
DTEND;TZID=Europe/London:20190309T130000
DTSTAMP:20260420T113404
CREATED:20190501T091657Z
LAST-MODIFIED:20190501T124246Z
UID:492-1552123800-1552136400@polishschoolbanbury.co.uk
SUMMARY:Zajęcia szkolne
DESCRIPTION:
URL:https://polishschoolbanbury.co.uk/wydarzenia/zajecia-szkolne-20/
LOCATION:Polska Szkoła w Banbury\, Fiennes Road\, Banbury\, Oxon\, OX16 0ET\, United Kingdom
CATEGORIES:Szkoła
END:VEVENT
BEGIN:VEVENT
DTSTART;TZID=Europe/London:20190302T093000
DTEND;TZID=Europe/London:20190302T130000
DTSTAMP:20260420T113404
CREATED:20190501T091624Z
LAST-MODIFIED:20190501T124236Z
UID:490-1551519000-1551531600@polishschoolbanbury.co.uk
SUMMARY:Zajęcia szkolne
DESCRIPTION:
URL:https://polishschoolbanbury.co.uk/wydarzenia/zajecia-szkolne-19/
LOCATION:Polska Szkoła w Banbury\, Fiennes Road\, Banbury\, Oxon\, OX16 0ET\, United Kingdom
CATEGORIES:Szkoła
END:VEVENT
BEGIN:VEVENT
DTSTART;VALUE=DATE:20190223
DTEND;VALUE=DATE:20190224
DTSTAMP:20260420T113404
CREATED:20190501T093632Z
LAST-MODIFIED:20190501T124225Z
UID:543-1550880000-1550966399@polishschoolbanbury.co.uk
SUMMARY:Wolna sobota (half term)
DESCRIPTION:
URL:https://polishschoolbanbury.co.uk/wydarzenia/wolna-sobota-half-term-4/
CATEGORIES:Szkoła,Wakacje
END:VEVENT
BEGIN:VEVENT
DTSTART;VALUE=DATE:20190216
DTEND;VALUE=DATE:20190217
DTSTAMP:20260420T113404
CREATED:20190501T093559Z
LAST-MODIFIED:20190501T124217Z
UID:541-1550275200-1550361599@polishschoolbanbury.co.uk
SUMMARY:Wolna sobota (half term)
DESCRIPTION:
URL:https://polishschoolbanbury.co.uk/wydarzenia/wolna-sobota-half-term-3/
CATEGORIES:Szkoła,Wakacje
END:VEVENT
END:VCALENDAR